BEGIN:VCALENDAR
VERSION:2.0
PRODID:-//empowercdc.org//NONSGML kigkonsult.se iCalcreator 2.30.10//
CALSCALE:GREGORIAN
METHOD:PUBLISH
UID:9fed97fd-1114-4198-8410-954b9f7acca5
X-WR-CALDESC:ARTS & CRAFTS\nEmpower\nBracelets\n@3:00
X-WR-RELCALID:4b6e8a5b53a11b64629ad0be01113124
X-WR-TIMEZONE:America/Chicago
BEGIN:VTIMEZONE
TZID:America/Chicago
BEGIN:STANDARD
TZNAME:CST
DTSTART:20251102T020000
TZOFFSETFROM:-0500
TZOFFSETTO:-0600
RDATE:20261101T020000
END:STANDARD
BEGIN:DAYLIGHT
TZNAME:CDT
DTSTART:20260308T020000
TZOFFSETFROM:-0600
TZOFFSETTO:-0500
RDATE:20270314T020000
END:DAYLIGHT
END:VTIMEZONE
BEGIN:VEVENT
UID:0d3d3b46-8934-4e9e-916a-ea07be42abff
DTSTAMP:20260421T112355Z
DESCRIPTION:ARTS & CRAFTS\nEmpower\nBracelets\n@3:00
DTSTART;TZID=America/Chicago:20260423T150000
DTEND;TZID=America/Chicago:20260423T160000
LOCATION:6725 Brittmoore Road\, Houston\, TX 77041 US
SUMMARY:Brittmoore: Arts & Crafts
END:VEVENT
END:VCALENDAR
