BEGIN:VCALENDAR
VERSION:2.0
PRODID:-//empowercdc.org//NONSGML kigkonsult.se iCalcreator 2.30.10//
CALSCALE:GREGORIAN
METHOD:PUBLISH
UID:53b3171c-9abe-4007-b76f-041c56be2cb8
X-WR-CALDESC:ARTS & CRAFTS\nEmpower\nVelvet Poster Art\n@3:00
X-WR-RELCALID:6b5c1e7075a1d50642a036b5d541cf92
X-WR-TIMEZONE:America/Chicago
BEGIN:VTIMEZONE
TZID:America/Chicago
BEGIN:STANDARD
TZNAME:CST
DTSTART:20251102T020000
TZOFFSETFROM:-0500
TZOFFSETTO:-0600
RDATE:20261101T020000
END:STANDARD
BEGIN:DAYLIGHT
TZNAME:CDT
DTSTART:20260308T020000
TZOFFSETFROM:-0600
TZOFFSETTO:-0500
RDATE:20270314T020000
END:DAYLIGHT
END:VTIMEZONE
BEGIN:VEVENT
UID:9721f4a2-a979-4274-9039-9cf37f1d4881
DTSTAMP:20260421T110713Z
DESCRIPTION:ARTS & CRAFTS\nEmpower\nVelvet Poster Art\n@3:00
DTSTART;TZID=America/Chicago:20260414T150000
DTEND;TZID=America/Chicago:20260414T160000
LOCATION:6725 Brittmoore Road\, Houston\, TX 77041 US
SUMMARY:Brittmoore: Arts & Crafts
END:VEVENT
END:VCALENDAR
