BEGIN:VCALENDAR
VERSION:2.0
PRODID:-//empowercdc.org//NONSGML kigkonsult.se iCalcreator 2.30.10//
CALSCALE:GREGORIAN
METHOD:PUBLISH
UID:a0118e60-8be2-4242-b27b-e7e42e786519
X-WR-CALDESC:Health & Nutrition\nFruit Bash\n@ 3:00 PM\n*Resident only even
 t*
X-WR-RELCALID:298190ca60187943a05ab36ef0c61ec8
X-WR-TIMEZONE:America/Chicago
BEGIN:VTIMEZONE
TZID:America/Chicago
BEGIN:STANDARD
TZNAME:CST
DTSTART:20251102T020000
TZOFFSETFROM:-0500
TZOFFSETTO:-0600
RDATE:20261101T020000
END:STANDARD
BEGIN:DAYLIGHT
TZNAME:CDT
DTSTART:20260308T020000
TZOFFSETFROM:-0600
TZOFFSETTO:-0500
RDATE:20270314T020000
END:DAYLIGHT
END:VTIMEZONE
BEGIN:VEVENT
UID:4320d7a4-2236-4033-8ac0-3a2766ae6974
DTSTAMP:20260421T112722Z
DESCRIPTION:Health & Nutrition\nFruit Bash\n@ 3:00 PM\n*Resident only event
 *
DTSTART;TZID=America/Chicago:20260407T150000
DTEND;TZID=America/Chicago:20260407T160000
LOCATION:6725 Brittmoore Road\, Houston\, TX 77041 US
SUMMARY:Brittmoore: Health & Nutrition
END:VEVENT
END:VCALENDAR
