BEGIN:VCALENDAR
VERSION:2.0
PRODID:-//empowercdc.org//NONSGML kigkonsult.se iCalcreator 2.30.10//
CALSCALE:GREGORIAN
METHOD:PUBLISH
UID:280e6214-8ccf-4fbc-8147-970ba3ada890
X-WR-CALDESC:Annual Health Fair\nEmpower\nHealth Fair\n@3:00 PM\n\n*Residen
 t only event*
X-WR-RELCALID:71587af5fb4a3af7495fe3022f02b514
X-WR-TIMEZONE:America/Chicago
BEGIN:VTIMEZONE
TZID:America/Chicago
BEGIN:STANDARD
TZNAME:CST
DTSTART:20251102T020000
TZOFFSETFROM:-0500
TZOFFSETTO:-0600
RDATE:20261101T020000
END:STANDARD
BEGIN:DAYLIGHT
TZNAME:CDT
DTSTART:20260308T020000
TZOFFSETFROM:-0600
TZOFFSETTO:-0500
RDATE:20270314T020000
END:DAYLIGHT
END:VTIMEZONE
BEGIN:VEVENT
UID:45961bdd-134f-47fe-b83d-8f12bc1b57d0
DTSTAMP:20260421T130919Z
DESCRIPTION:Annual Health Fair\nEmpower\nHealth Fair\n@3:00 PM\n\n*Resident
  only event*
DTSTART;TZID=America/Chicago:20260312T150000
DTEND;TZID=America/Chicago:20260312T170000
LOCATION:6725 Brittmoore Road\, Houston\, TX 77041 US
SUMMARY:Brittmoore: Annual Health Fair
END:VEVENT
END:VCALENDAR
