BEGIN:VCALENDAR
VERSION:2.0
PRODID:-//empowercdc.org//NONSGML kigkonsult.se iCalcreator 2.30.10//
CALSCALE:GREGORIAN
METHOD:PUBLISH
UID:5e6aec50-4f2b-49b2-8a5e-d9ef0d08b6f8
X-WR-CALDESC:Health & Nutrition\nFruit Bash\n@ 3:00 PM\nCHARACTER BUILDING
 \nEmpower\nEncouraging Words\n@ 4:00 PM\n\n*Resident only event*
X-WR-RELCALID:e5704e227d6bd654b04d06b88c16f18e
X-WR-TIMEZONE:America/Chicago
BEGIN:VTIMEZONE
TZID:America/Chicago
BEGIN:STANDARD
TZNAME:CST
DTSTART:20251102T020000
TZOFFSETFROM:-0500
TZOFFSETTO:-0600
RDATE:20261101T020000
END:STANDARD
BEGIN:DAYLIGHT
TZNAME:CDT
DTSTART:20260308T020000
TZOFFSETFROM:-0600
TZOFFSETTO:-0500
RDATE:20270314T020000
END:DAYLIGHT
END:VTIMEZONE
BEGIN:VEVENT
UID:c28d15ff-36e3-4792-83b2-bfa63deb0057
DTSTAMP:20260421T131020Z
DESCRIPTION:Health & Nutrition\nFruit Bash\n@ 3:00 PM\nCHARACTER BUILDING\n
 Empower\nEncouraging Words\n@ 4:00 PM\n\n*Resident only event*
DTSTART;TZID=America/Chicago:20260310T150000
DTEND;TZID=America/Chicago:20260310T170000
LOCATION:6725 Brittmoore Road\, Houston\, TX 77041 US
SUMMARY:Brittmoore: Health & Nutrition\, Character Building
END:VEVENT
END:VCALENDAR
