BEGIN:VCALENDAR
VERSION:2.0
PRODID:-//empowercdc.org//NONSGML kigkonsult.se iCalcreator 2.30.10//
CALSCALE:GREGORIAN
METHOD:PUBLISH
UID:91fc5a48-5d60-4b7d-a7d9-7446b22e35f5
X-WR-CALDESC:ARTS & CRAFTS\nEmpower\nChristmas Ornaments\n@3:00 PM\n\nSOCIA
 L - Empower\nHoliday Celebration\n@ 4:00 PM\n\n*Resident only event*
X-WR-RELCALID:03a6d5deaddd6ea67c3c726f2d5fabc7
X-WR-TIMEZONE:America/Chicago
BEGIN:VTIMEZONE
TZID:America/Chicago
BEGIN:STANDARD
TZNAME:CST
DTSTART:20251102T020000
TZOFFSETFROM:-0500
TZOFFSETTO:-0600
RDATE:20261101T020000
END:STANDARD
BEGIN:DAYLIGHT
TZNAME:CDT
DTSTART:20250309T020000
TZOFFSETFROM:-0600
TZOFFSETTO:-0500
RDATE:20260308T020000
RDATE:20270314T020000
END:DAYLIGHT
END:VTIMEZONE
BEGIN:VEVENT
UID:75c76705-9955-4a5d-bd1f-09e40c109365
DTSTAMP:20260421T175154Z
DESCRIPTION:ARTS & CRAFTS\nEmpower\nChristmas Ornaments\n@3:00 PM\n\nSOCIAL
  - Empower\nHoliday Celebration\n@ 4:00 PM\n\n*Resident only event*
DTSTART;TZID=America/Chicago:20251218T150000
DTEND;TZID=America/Chicago:20251218T170000
LOCATION:6725 Brittmoore Road\, Houston\, TX 77041 US
SUMMARY:Brittmoore: Arts & Crafts\, Social
END:VEVENT
END:VCALENDAR
