BEGIN:VCALENDAR
VERSION:2.0
PRODID:-//empowercdc.org//NONSGML kigkonsult.se iCalcreator 2.30.10//
CALSCALE:GREGORIAN
METHOD:PUBLISH
UID:4afa67f5-00fa-47d2-abdd-43014854b611
X-WR-CALDESC:FOOD PANTRY\nEmpower\nMonthly Food Pantry\n@1:00 PM\n\nARTS & 
 CRAFTS\nEmpower\nVelvet Poster Arts\n@2:00 PM\n\n*Resident only event*
X-WR-RELCALID:8d27b423bc58a56d6c1eb6fa99151de8
X-WR-TIMEZONE:America/Chicago
BEGIN:VTIMEZONE
TZID:America/Chicago
BEGIN:STANDARD
TZNAME:CST
DTSTART:20251102T020000
TZOFFSETFROM:-0500
TZOFFSETTO:-0600
RDATE:20261101T020000
END:STANDARD
BEGIN:DAYLIGHT
TZNAME:CDT
DTSTART:20250309T020000
TZOFFSETFROM:-0600
TZOFFSETTO:-0500
RDATE:20260308T020000
RDATE:20270314T020000
END:DAYLIGHT
END:VTIMEZONE
BEGIN:VEVENT
UID:5537757f-d0cb-44b7-be4c-9dcae2649598
DTSTAMP:20260421T175018Z
DESCRIPTION:FOOD PANTRY\nEmpower\nMonthly Food Pantry\n@1:00 PM\n\nARTS & C
 RAFTS\nEmpower\nVelvet Poster Arts\n@2:00 PM\n\n*Resident only event*
DTSTART;TZID=America/Chicago:20251216T130000
DTEND;TZID=America/Chicago:20251216T150000
LOCATION:6725 Brittmoore Road\, Houston\, TX 77041 US
SUMMARY:Brittmoore: Food Pantry\, Arts & Crafts
END:VEVENT
END:VCALENDAR
