BEGIN:VCALENDAR
VERSION:2.0
PRODID:-//empowercdc.org//NONSGML kigkonsult.se iCalcreator 2.30.10//
CALSCALE:GREGORIAN
METHOD:PUBLISH
UID:dc2dfd5f-bfe9-44ed-a536-70d5406ddb51
X-WR-CALDESC:SOCIAL - Empower\nBirthday Social\n@ 3:00 PM\n\nCHARACTER BUIL
 DING\nEmpower\nSpelling B\n@ 4:00 PM\n\n*Resident only event*
X-WR-RELCALID:a428e618c655bb5ee136dcc765f42cb5
X-WR-TIMEZONE:America/Chicago
BEGIN:VTIMEZONE
TZID:America/Chicago
BEGIN:STANDARD
TZNAME:CST
DTSTART:20251102T020000
TZOFFSETFROM:-0500
TZOFFSETTO:-0600
RDATE:20261101T020000
END:STANDARD
BEGIN:DAYLIGHT
TZNAME:CDT
DTSTART:20250309T020000
TZOFFSETFROM:-0600
TZOFFSETTO:-0500
RDATE:20260308T020000
RDATE:20270314T020000
END:DAYLIGHT
END:VTIMEZONE
BEGIN:VEVENT
UID:c3af84f7-ee84-4a10-8f3f-1a44ac01a316
DTSTAMP:20260421T174650Z
DESCRIPTION:SOCIAL - Empower\nBirthday Social\n@ 3:00 PM\n\nCHARACTER BUILD
 ING\nEmpower\nSpelling B\n@ 4:00 PM\n\n*Resident only event*
DTSTART;TZID=America/Chicago:20251211T150000
DTEND;TZID=America/Chicago:20251211T170000
LOCATION:6725 Brittmoore Road\, Houston\, TX 77041 US
SUMMARY:Brittmoore: Social\, Character Building
END:VEVENT
END:VCALENDAR
