BEGIN:VCALENDAR
VERSION:2.0
PRODID:-//empowercdc.org//NONSGML kigkonsult.se iCalcreator 2.30.10//
CALSCALE:GREGORIAN
METHOD:PUBLISH
UID:f21702eb-39ed-4f23-97d5-1d2f9c7094fa
X-WR-CALDESC:Health & Nutrition-\nEmpower\n\nFruit Bash\n@3:00 PM\n\n\n*Res
 ident only event*
X-WR-RELCALID:b9d98957625b4e8803bf14a11d190b07
X-WR-TIMEZONE:America/Chicago
BEGIN:VTIMEZONE
TZID:America/Chicago
BEGIN:STANDARD
TZNAME:CST
DTSTART:20251102T020000
TZOFFSETFROM:-0500
TZOFFSETTO:-0600
RDATE:20261101T020000
END:STANDARD
BEGIN:DAYLIGHT
TZNAME:CDT
DTSTART:20250309T020000
TZOFFSETFROM:-0600
TZOFFSETTO:-0500
RDATE:20260308T020000
RDATE:20270314T020000
END:DAYLIGHT
END:VTIMEZONE
BEGIN:VEVENT
UID:e51c9693-413e-40a6-8a76-e6b3f83efce4
DTSTAMP:20260421T174634Z
DESCRIPTION:Health & Nutrition-\nEmpower\n\nFruit Bash\n@3:00 PM\n\n\n*Resi
 dent only event*
DTSTART;TZID=America/Chicago:20251209T150000
DTEND;TZID=America/Chicago:20251209T160000
LOCATION:6725 Brittmoore Road\, Houston\, TX 77041 US
SUMMARY:Brittmoore: Health & Nutrition
END:VEVENT
END:VCALENDAR
