BEGIN:VCALENDAR
VERSION:2.0
PRODID:-//empowercdc.org//NONSGML kigkonsult.se iCalcreator 2.30.10//
CALSCALE:GREGORIAN
METHOD:PUBLISH
UID:e1981b0e-a480-4d30-bf05-e54e08134f49
X-WR-CALDESC:Financial Planning\nEmpower\nBudgeting During the\nHolidays\n@
 3:00 PM\n\nCharacter Building\nEmpower\nSpelling B\n@4:00 PM\n\n*Resident 
 only event*
X-WR-RELCALID:2983f28a1e51a490f63b084ae64ee6de
X-WR-TIMEZONE:America/Chicago
BEGIN:VTIMEZONE
TZID:America/Chicago
BEGIN:STANDARD
TZNAME:CST
DTSTART:20241103T020000
TZOFFSETFROM:-0500
TZOFFSETTO:-0600
RDATE:20251102T020000
RDATE:20261101T020000
END:STANDARD
BEGIN:DAYLIGHT
TZNAME:CDT
DTSTART:20250309T020000
TZOFFSETFROM:-0600
TZOFFSETTO:-0500
RDATE:20260308T020000
RDATE:20270314T020000
END:DAYLIGHT
END:VTIMEZONE
BEGIN:VEVENT
UID:fe1fbde1-c1d0-424c-bcc1-0af6ea68be7d
DTSTAMP:20260421T211639Z
DESCRIPTION:Financial Planning\nEmpower\nBudgeting During the\nHolidays\n@3
 :00 PM\n\nCharacter Building\nEmpower\nSpelling B\n@4:00 PM\n\n*Resident o
 nly event*
DTSTART;TZID=America/Chicago:20251028T130000
DTEND;TZID=America/Chicago:20251028T140000
LOCATION:6725 Brittmoore Road\, Houston\, TX 77041 US
SUMMARY:Brittmoore: Food Pantry
END:VEVENT
END:VCALENDAR
