BEGIN:VCALENDAR
VERSION:2.0
PRODID:-//empowercdc.org//NONSGML kigkonsult.se iCalcreator 2.30.10//
CALSCALE:GREGORIAN
METHOD:PUBLISH
UID:41e1a30e-acc1-41d3-a8bc-a6f1c7df2fc2
X-WR-CALDESC:Health & Nutrition\nEmpower\nFruit Bash\n@3:00 PM\n\n*Resident
  only event*
X-WR-RELCALID:d0fe77ec7570fbf3b616848e1e3ad180
X-WR-TIMEZONE:America/Chicago
BEGIN:VTIMEZONE
TZID:America/Chicago
BEGIN:STANDARD
TZNAME:CST
DTSTART:20241103T020000
TZOFFSETFROM:-0500
TZOFFSETTO:-0600
RDATE:20251102T020000
RDATE:20261101T020000
END:STANDARD
BEGIN:DAYLIGHT
TZNAME:CDT
DTSTART:20250309T020000
TZOFFSETFROM:-0600
TZOFFSETTO:-0500
RDATE:20260308T020000
RDATE:20270314T020000
END:DAYLIGHT
END:VTIMEZONE
BEGIN:VEVENT
UID:f2799ddb-7643-45cb-9c88-e3ab8f60b2ed
DTSTAMP:20260421T211454Z
DESCRIPTION:Health & Nutrition\nEmpower\nFruit Bash\n@3:00 PM\n\n*Resident 
 only event*
DTSTART;TZID=America/Chicago:20251016T150000
DTEND;TZID=America/Chicago:20251016T160000
LOCATION:6725 Brittmoore Road\, Houston\, TX 77041 US
SUMMARY:Brittmoore: Health & Nutrition
END:VEVENT
END:VCALENDAR
