BEGIN:VCALENDAR
VERSION:2.0
PRODID:-//empowercdc.org//NONSGML kigkonsult.se iCalcreator 2.30.10//
CALSCALE:GREGORIAN
METHOD:PUBLISH
UID:7c159d5e-5860-4545-b726-291aaf717ffb
X-WR-CALDESC:ARTS & CRAFTS\nEmpower\nColumbus Day Coloring\n@3:00 PM\n\nSOC
 IAL - Empower\nBirthday Social\n@ 4:00 PM\n\n*Resident only event*
X-WR-RELCALID:6732f1affb577537368376597ec8e0f3
X-WR-TIMEZONE:America/Chicago
BEGIN:VTIMEZONE
TZID:America/Chicago
BEGIN:STANDARD
TZNAME:CST
DTSTART:20241103T020000
TZOFFSETFROM:-0500
TZOFFSETTO:-0600
RDATE:20251102T020000
RDATE:20261101T020000
END:STANDARD
BEGIN:DAYLIGHT
TZNAME:CDT
DTSTART:20250309T020000
TZOFFSETFROM:-0600
TZOFFSETTO:-0500
RDATE:20260308T020000
RDATE:20270314T020000
END:DAYLIGHT
END:VTIMEZONE
BEGIN:VEVENT
UID:b283811a-0e0d-417e-b981-49948f1a2616
DTSTAMP:20260421T212258Z
DESCRIPTION:ARTS & CRAFTS\nEmpower\nColumbus Day Coloring\n@3:00 PM\n\nSOCI
 AL - Empower\nBirthday Social\n@ 4:00 PM\n\n*Resident only event*
DTSTART;TZID=America/Chicago:20251014T150000
DTEND;TZID=America/Chicago:20251014T170000
LOCATION:6725 Brittmoore Road\, Houston\, TX 77041 US
SUMMARY:Brittmoore: Arts & Crafts\, Social
END:VEVENT
END:VCALENDAR
