BEGIN:VCALENDAR
VERSION:2.0
PRODID:-//empowercdc.org//NONSGML kigkonsult.se iCalcreator 2.30.10//
CALSCALE:GREGORIAN
METHOD:PUBLISH
UID:1f6ad40e-438f-4bf3-ad95-c859e6058b8e
X-WR-CALDESC:Character Building\nEmpower\nWoman’s Equality\n@3:00 PM\n\n*Re
 sident only event*
X-WR-RELCALID:c9bbd35d767ea84f6c5eadf8620255ec
X-WR-TIMEZONE:America/Chicago
BEGIN:VTIMEZONE
TZID:America/Chicago
BEGIN:STANDARD
TZNAME:CST
DTSTART:20241103T020000
TZOFFSETFROM:-0500
TZOFFSETTO:-0600
RDATE:20251102T020000
RDATE:20261101T020000
END:STANDARD
BEGIN:DAYLIGHT
TZNAME:CDT
DTSTART:20250309T020000
TZOFFSETFROM:-0600
TZOFFSETTO:-0500
RDATE:20260308T020000
END:DAYLIGHT
END:VTIMEZONE
BEGIN:VEVENT
UID:832eca79-9f76-4a58-abf2-055c5d6e99be
DTSTAMP:20260422T001129Z
DESCRIPTION:Character Building\nEmpower\nWoman’s Equality\n@3:00 PM\n\n*Res
 ident only event*
DTSTART;TZID=America/Chicago:20250814T150000
DTEND;TZID=America/Chicago:20250814T160000
LOCATION:6725 Brittmoore Road\, Houston\, TX 77041 US
SUMMARY:Brittmoore: Character Building
END:VEVENT
END:VCALENDAR
