BEGIN:VCALENDAR
VERSION:2.0
PRODID:-//empowercdc.org//NONSGML kigkonsult.se iCalcreator 2.30.10//
CALSCALE:GREGORIAN
METHOD:PUBLISH
UID:6408f5f7-29de-40ca-af15-616ec9232d12
X-WR-CALDESC:ARTS & CRAFTS\nEmpower\nVelvet Poster Arts\n@3:00 PM\n\n*Resid
 ent only event*
X-WR-RELCALID:b09ff5bffe1a8c194a35c377b0bcec83
X-WR-TIMEZONE:America/Chicago
BEGIN:VTIMEZONE
TZID:America/Chicago
BEGIN:STANDARD
TZNAME:CST
DTSTART:20241103T020000
TZOFFSETFROM:-0500
TZOFFSETTO:-0600
RDATE:20251102T020000
RDATE:20261101T020000
END:STANDARD
BEGIN:DAYLIGHT
TZNAME:CDT
DTSTART:20250309T020000
TZOFFSETFROM:-0600
TZOFFSETTO:-0500
RDATE:20260308T020000
END:DAYLIGHT
END:VTIMEZONE
BEGIN:VEVENT
UID:791134ec-717d-4e55-a8bb-2fe290e2581d
DTSTAMP:20260422T003611Z
DESCRIPTION:ARTS & CRAFTS\nEmpower\nVelvet Poster Arts\n@3:00 PM\n\n*Reside
 nt only event*
DTSTART;TZID=America/Chicago:20250807T150000
DTEND;TZID=America/Chicago:20250807T160000
LOCATION:6725 Brittmoore Road\, Houston\, TX 77041 US
SUMMARY:Brittmoore: Arts & Crafts
END:VEVENT
END:VCALENDAR
