BEGIN:VCALENDAR
VERSION:2.0
PRODID:-//empowercdc.org//NONSGML kigkonsult.se iCalcreator 2.30.10//
CALSCALE:GREGORIAN
METHOD:PUBLISH
UID:9ee918fa-4170-441c-b050-a4e9fbe87a1e
X-WR-CALDESC:SOCIAL - Empower\nBackpack Drive\n@ 3:00 PM\n\n*Resident only 
 event*
X-WR-RELCALID:28c7f95c10df15d764411b08aefd5ec9
X-WR-TIMEZONE:America/Chicago
BEGIN:VTIMEZONE
TZID:America/Chicago
BEGIN:STANDARD
TZNAME:CST
DTSTART:20241103T020000
TZOFFSETFROM:-0500
TZOFFSETTO:-0600
RDATE:20251102T020000
RDATE:20261101T020000
END:STANDARD
BEGIN:DAYLIGHT
TZNAME:CDT
DTSTART:20250309T020000
TZOFFSETFROM:-0600
TZOFFSETTO:-0500
RDATE:20260308T020000
END:DAYLIGHT
END:VTIMEZONE
BEGIN:VEVENT
UID:9c8f261d-0802-4439-9049-195c54ef9527
DTSTAMP:20260422T001257Z
DESCRIPTION:SOCIAL - Empower\nBackpack Drive\n@ 3:00 PM\n\n*Resident only e
 vent*
DTSTART;TZID=America/Chicago:20250805T150000
DTEND;TZID=America/Chicago:20250805T163000
LOCATION:6725 Brittmoore Road\, Houston\, TX 77041 US
SUMMARY:Brittmoore: BackPack Drive
END:VEVENT
END:VCALENDAR
