BEGIN:VCALENDAR
VERSION:2.0
PRODID:-//empowercdc.org//NONSGML kigkonsult.se iCalcreator 2.30.10//
CALSCALE:GREGORIAN
METHOD:PUBLISH
UID:517fc844-9c75-414d-86f9-b87f40662b72
X-WR-CALDESC:SOCIAL - Empower\nBirthday Social\n@ 1:00 PM\n*Resident only e
 vent*
X-WR-RELCALID:17db9b499c6facd5a16becc6a442d415
X-WR-TIMEZONE:America/Chicago
BEGIN:VTIMEZONE
TZID:America/Chicago
BEGIN:STANDARD
TZNAME:CST
DTSTART:20241103T020000
TZOFFSETFROM:-0500
TZOFFSETTO:-0600
RDATE:20251102T020000
RDATE:20261101T020000
END:STANDARD
BEGIN:DAYLIGHT
TZNAME:CDT
DTSTART:20250309T020000
TZOFFSETFROM:-0600
TZOFFSETTO:-0500
RDATE:20260308T020000
END:DAYLIGHT
END:VTIMEZONE
BEGIN:VEVENT
UID:352acf4b-8cd2-4c67-968e-565361647940
DTSTAMP:20260422T014404Z
DESCRIPTION:SOCIAL - Empower\nBirthday Social\n@ 1:00 PM\n*Resident only ev
 ent*
DTSTART;TZID=America/Chicago:20250729T130000
DTEND;TZID=America/Chicago:20250729T140000
LOCATION:6725 Brittmoore Road\, Houston\, TX 77041 US
SUMMARY:Brittmoore: Birthday Social
END:VEVENT
END:VCALENDAR
