BEGIN:VCALENDAR
VERSION:2.0
PRODID:-//empowercdc.org//NONSGML kigkonsult.se iCalcreator 2.30.10//
CALSCALE:GREGORIAN
METHOD:PUBLISH
UID:93caaeaa-2b09-4616-874f-a0e32670b7cb
X-WR-CALDESC:Character Building\nEmpower\nMental Health\nAwareness\n@1:00 P
 M\n*Resident only event*
X-WR-RELCALID:8c86b819a27893198e21b314b02840d4
X-WR-TIMEZONE:America/Chicago
BEGIN:VTIMEZONE
TZID:America/Chicago
BEGIN:STANDARD
TZNAME:CST
DTSTART:20241103T020000
TZOFFSETFROM:-0500
TZOFFSETTO:-0600
RDATE:20251102T020000
RDATE:20261101T020000
END:STANDARD
BEGIN:DAYLIGHT
TZNAME:CDT
DTSTART:20250309T020000
TZOFFSETFROM:-0600
TZOFFSETTO:-0500
RDATE:20260308T020000
END:DAYLIGHT
END:VTIMEZONE
BEGIN:VEVENT
UID:12d5f2de-297c-4bd2-aab1-153dd5d54ca5
DTSTAMP:20260422T014614Z
DESCRIPTION:Character Building\nEmpower\nMental Health\nAwareness\n@1:00 PM
 \n*Resident only event*
DTSTART;TZID=America/Chicago:20250715T130000
DTEND;TZID=America/Chicago:20250715T140000
LOCATION:6725 Brittmoore Road\, Houston\, TX 77041 US
SUMMARY:Brittmoore: Character Building
END:VEVENT
END:VCALENDAR
