BEGIN:VCALENDAR
VERSION:2.0
PRODID:-//empowercdc.org//NONSGML kigkonsult.se iCalcreator 2.30.10//
CALSCALE:GREGORIAN
METHOD:PUBLISH
UID:7252f9ff-beb1-406c-969b-ecca50c07edc
X-WR-CALDESC:SOCIAL\nMental Health\nCP-C.O.P.E\n@ 12:00 PM\n*Resident only 
 event*
X-WR-RELCALID:4642da74a73feb1b04f46b97479b05c6
X-WR-TIMEZONE:America/Chicago
BEGIN:VTIMEZONE
TZID:America/Chicago
BEGIN:STANDARD
TZNAME:CST
DTSTART:20241103T020000
TZOFFSETFROM:-0500
TZOFFSETTO:-0600
RDATE:20251102T020000
RDATE:20261101T020000
END:STANDARD
BEGIN:DAYLIGHT
TZNAME:CDT
DTSTART:20250309T020000
TZOFFSETFROM:-0600
TZOFFSETTO:-0500
RDATE:20260308T020000
END:DAYLIGHT
END:VTIMEZONE
BEGIN:VEVENT
UID:b4c248a1-611e-4941-a68b-66496db2e6f8
DTSTAMP:20260422T014727Z
DESCRIPTION:SOCIAL\nMental Health\nCP-C.O.P.E\n@ 12:00 PM\n*Resident only e
 vent*
DTSTART;TZID=America/Chicago:20250703T120000
DTEND;TZID=America/Chicago:20250703T140000
LOCATION:6725 Brittmoore Road\, Houston\, TX 77041 US
SUMMARY:Brittmoore: Social Mental Health
END:VEVENT
END:VCALENDAR
