BEGIN:VCALENDAR
VERSION:2.0
PRODID:-//empowercdc.org//NONSGML kigkonsult.se iCalcreator 2.30.10//
CALSCALE:GREGORIAN
METHOD:PUBLISH
UID:4693e783-707c-4da0-8b4c-96d724e3ad3b
X-WR-CALDESC:Character Building\nEmpower\nSpelling B\n@3:00 PM\n\n*Resident
  only event*
X-WR-RELCALID:6f3c9216ee7d8bcff8a535f249a2352b
X-WR-TIMEZONE:America/Chicago
BEGIN:VTIMEZONE
TZID:America/Chicago
BEGIN:STANDARD
TZNAME:CST
DTSTART:20241103T020000
TZOFFSETFROM:-0500
TZOFFSETTO:-0600
RDATE:20251102T020000
RDATE:20261101T020000
END:STANDARD
BEGIN:DAYLIGHT
TZNAME:CDT
DTSTART:20250309T020000
TZOFFSETFROM:-0600
TZOFFSETTO:-0500
RDATE:20260308T020000
END:DAYLIGHT
END:VTIMEZONE
BEGIN:VEVENT
UID:c9d60755-d978-48be-8e90-7944da8cd8bc
DTSTAMP:20260422T032339Z
DESCRIPTION:Character Building\nEmpower\nSpelling B\n@3:00 PM\n\n*Resident 
 only event*
DTSTART;TZID=America/Chicago:20250619T150000
DTEND;TZID=America/Chicago:20250619T160000
LOCATION:6725 Brittmoore Road\, Houston\, TX 77041 US
SUMMARY:Brittmoore: Character Building
END:VEVENT
END:VCALENDAR
