BEGIN:VCALENDAR
VERSION:2.0
PRODID:-//empowercdc.org//NONSGML kigkonsult.se iCalcreator 2.30.10//
CALSCALE:GREGORIAN
METHOD:PUBLISH
UID:8e6e0617-2ee0-4644-99ef-9713fc9b944d
X-WR-CALDESC:ARTS & CRAFTS\nEmpower\nFather’s Day Cards\n@3:00 PM\n\n*Resid
 ent only event*
X-WR-RELCALID:3150a3c9ce48ca115d999b3b134d6d55
X-WR-TIMEZONE:America/Chicago
BEGIN:VTIMEZONE
TZID:America/Chicago
BEGIN:STANDARD
TZNAME:CST
DTSTART:20241103T020000
TZOFFSETFROM:-0500
TZOFFSETTO:-0600
RDATE:20251102T020000
RDATE:20261101T020000
END:STANDARD
BEGIN:DAYLIGHT
TZNAME:CDT
DTSTART:20250309T020000
TZOFFSETFROM:-0600
TZOFFSETTO:-0500
RDATE:20260308T020000
END:DAYLIGHT
END:VTIMEZONE
BEGIN:VEVENT
UID:b9fce331-a525-4d49-ba31-20688c064f82
DTSTAMP:20260422T031436Z
DESCRIPTION:ARTS & CRAFTS\nEmpower\nFather’s Day Cards\n@3:00 PM\n\n*Reside
 nt only event*
DTSTART;TZID=America/Chicago:20250605T150000
DTEND;TZID=America/Chicago:20250605T160000
LOCATION:6725 Brittmoore Road\, Houston\, TX 77041 US
SUMMARY:Brittmoore: Arts & Crafts
END:VEVENT
END:VCALENDAR
