BEGIN:VCALENDAR
VERSION:2.0
PRODID:-//empowercdc.org//NONSGML kigkonsult.se iCalcreator 2.30.10//
CALSCALE:GREGORIAN
METHOD:PUBLISH
UID:e9c354fd-bfc4-41b8-856e-d346989aa1ba
X-WR-CALDESC:SOCIAL - Empower\nPool Party\n@ 3:00 PM\n*Resident only event*
X-WR-RELCALID:727aaa61887dcb2f2e98a5502d2b59c9
X-WR-TIMEZONE:America/Chicago
BEGIN:VTIMEZONE
TZID:America/Chicago
BEGIN:STANDARD
TZNAME:CST
DTSTART:20241103T020000
TZOFFSETFROM:-0500
TZOFFSETTO:-0600
RDATE:20251102T020000
RDATE:20261101T020000
END:STANDARD
BEGIN:DAYLIGHT
TZNAME:CDT
DTSTART:20250309T020000
TZOFFSETFROM:-0600
TZOFFSETTO:-0500
RDATE:20260308T020000
END:DAYLIGHT
END:VTIMEZONE
BEGIN:VEVENT
UID:4f5ea41e-4db4-47e8-b38b-97ace77abc44
DTSTAMP:20260422T045702Z
DESCRIPTION:SOCIAL - Empower\nPool Party\n@ 3:00 PM\n*Resident only event*
DTSTART;TZID=America/Chicago:20250529T150000
DTEND;TZID=America/Chicago:20250529T160000
LOCATION:6725 Brittmoore Road\, Houston\, TX 77041 US
SUMMARY:Brittmoore: Pool Party
END:VEVENT
END:VCALENDAR
