BEGIN:VCALENDAR
VERSION:2.0
PRODID:-//empowercdc.org//NONSGML kigkonsult.se iCalcreator 2.30.10//
CALSCALE:GREGORIAN
METHOD:PUBLISH
UID:333b0afa-a500-456d-b0be-fa8091350475
X-WR-CALDESC:Financial Planning\nEmpower\nBudgeting Worksheet\n@2:00 PM\n*R
 esident only event*
X-WR-RELCALID:f5e7bd02cbcb483b1d104c6843957f69
X-WR-TIMEZONE:America/Chicago
BEGIN:VTIMEZONE
TZID:America/Chicago
BEGIN:STANDARD
TZNAME:CST
DTSTART:20241103T020000
TZOFFSETFROM:-0500
TZOFFSETTO:-0600
RDATE:20251102T020000
RDATE:20261101T020000
END:STANDARD
BEGIN:DAYLIGHT
TZNAME:CDT
DTSTART:20250309T020000
TZOFFSETFROM:-0600
TZOFFSETTO:-0500
RDATE:20260308T020000
END:DAYLIGHT
END:VTIMEZONE
BEGIN:VEVENT
UID:cbd35f15-83b8-4bd2-af94-50697608e8d5
DTSTAMP:20260422T045529Z
DESCRIPTION:Financial Planning\nEmpower\nBudgeting Worksheet\n@2:00 PM\n*Re
 sident only event*
DTSTART;TZID=America/Chicago:20250508T140000
DTEND;TZID=America/Chicago:20250508T150000
LOCATION:6725 Brittmoore Road\, Houston\, TX 77041 US
SUMMARY:Brittmoore: Financial Planning
END:VEVENT
END:VCALENDAR
