BEGIN:VCALENDAR
VERSION:2.0
PRODID:-//empowercdc.org//NONSGML kigkonsult.se iCalcreator 2.30.10//
CALSCALE:GREGORIAN
METHOD:PUBLISH
UID:d70b4a9c-1c3b-4990-824d-57e5815dbd1d
X-WR-CALDESC:SOCIAL - Empower\nEarth day Social\n@ 3:00 PM\n\n*Resident onl
 y event*
X-WR-RELCALID:e69d849dca4e58f6e386b4587a4dd465
X-WR-TIMEZONE:America/Chicago
BEGIN:VTIMEZONE
TZID:America/Chicago
BEGIN:STANDARD
TZNAME:CST
DTSTART:20241103T020000
TZOFFSETFROM:-0500
TZOFFSETTO:-0600
RDATE:20251102T020000
END:STANDARD
BEGIN:DAYLIGHT
TZNAME:CDT
DTSTART:20250309T020000
TZOFFSETFROM:-0600
TZOFFSETTO:-0500
RDATE:20260308T020000
END:DAYLIGHT
END:VTIMEZONE
BEGIN:VEVENT
UID:c1077414-f49c-48f0-a7d3-784b094b7501
DTSTAMP:20260422T062751Z
DESCRIPTION:SOCIAL - Empower\nEarth day Social\n@ 3:00 PM\n\n*Resident only
  event*
DTSTART;TZID=America/Chicago:20250424T150000
DTEND;TZID=America/Chicago:20250424T170000
LOCATION:6725 Brittmoore Road\, Houston\, TX 77041 US
SUMMARY:Brittmoore: Social
END:VEVENT
END:VCALENDAR
