BEGIN:VCALENDAR
VERSION:2.0
PRODID:-//empowercdc.org//NONSGML kigkonsult.se iCalcreator 2.30.10//
CALSCALE:GREGORIAN
METHOD:PUBLISH
UID:18ccfce8-a5aa-4a41-93e2-f861fcfc2dca
X-WR-CALDESC:FOOD PANTRY\nEmpower\nMonthly Food Pantry\n@1:00 PM\n\n*Reside
 nt only event*
X-WR-RELCALID:b104cf34a7005a91c505b0095f67dbe3
X-WR-TIMEZONE:America/Chicago
BEGIN:VTIMEZONE
TZID:America/Chicago
BEGIN:STANDARD
TZNAME:CST
DTSTART:20241103T020000
TZOFFSETFROM:-0500
TZOFFSETTO:-0600
RDATE:20251102T020000
END:STANDARD
BEGIN:DAYLIGHT
TZNAME:CDT
DTSTART:20250309T020000
TZOFFSETFROM:-0600
TZOFFSETTO:-0500
RDATE:20260308T020000
END:DAYLIGHT
END:VTIMEZONE
BEGIN:VEVENT
UID:3c3e85f3-dc54-43c8-9cd6-07949d694425
DTSTAMP:20260422T063626Z
DESCRIPTION:FOOD PANTRY\nEmpower\nMonthly Food Pantry\n@1:00 PM\n\n*Residen
 t only event*
DTSTART;TZID=America/Chicago:20250422T130000
DTEND;TZID=America/Chicago:20250422T140000
LOCATION:6725 Brittmoore Road\, Houston\, TX 77041 US
SUMMARY:Brittmoore: Food Pantry
END:VEVENT
END:VCALENDAR
