BEGIN:VCALENDAR
VERSION:2.0
PRODID:-//empowercdc.org//NONSGML kigkonsult.se iCalcreator 2.30.10//
CALSCALE:GREGORIAN
METHOD:PUBLISH
UID:a1da0c5b-8d81-4dea-b686-f23a1b1f03e3
X-WR-CALDESC:ARTS & CRAFTS\nEmpower\nVelvet Poster Art\n@3:00\n\n*Resident 
 only event*
X-WR-RELCALID:9c5f1ae38e00180faac74d9d3db1f2b6
X-WR-TIMEZONE:America/Chicago
BEGIN:VTIMEZONE
TZID:America/Chicago
BEGIN:STANDARD
TZNAME:CST
DTSTART:20241103T020000
TZOFFSETFROM:-0500
TZOFFSETTO:-0600
RDATE:20251102T020000
END:STANDARD
BEGIN:DAYLIGHT
TZNAME:CDT
DTSTART:20250309T020000
TZOFFSETFROM:-0600
TZOFFSETTO:-0500
RDATE:20260308T020000
END:DAYLIGHT
END:VTIMEZONE
BEGIN:VEVENT
UID:096e0789-d1fd-4ced-acff-13ec6e234fff
DTSTAMP:20260422T063656Z
DESCRIPTION:ARTS & CRAFTS\nEmpower\nVelvet Poster Art\n@3:00\n\n*Resident o
 nly event*
DTSTART;TZID=America/Chicago:20250415T150000
DTEND;TZID=America/Chicago:20250415T160000
LOCATION:6725 Brittmoore Road\, Houston\, TX 77041 US
SUMMARY:Brittmoore: Arts & Crafts
END:VEVENT
END:VCALENDAR
