BEGIN:VCALENDAR
VERSION:2.0
PRODID:-//empowercdc.org//NONSGML kigkonsult.se iCalcreator 2.30.10//
CALSCALE:GREGORIAN
METHOD:PUBLISH
UID:93cf94c5-ca5a-4f68-8064-8ba73b199430
X-WR-CALDESC:ARTS & CRAFTS\nEmpower\nBracelets\n@3:00 PM\n*Resident only ev
 ent*
X-WR-RELCALID:e8af57bb08b96daa1443ac04a0e1c1be
X-WR-TIMEZONE:America/Chicago
BEGIN:VTIMEZONE
TZID:America/Chicago
BEGIN:STANDARD
TZNAME:CST
DTSTART:20241103T020000
TZOFFSETFROM:-0500
TZOFFSETTO:-0600
RDATE:20251102T020000
END:STANDARD
BEGIN:DAYLIGHT
TZNAME:CDT
DTSTART:20250309T020000
TZOFFSETFROM:-0600
TZOFFSETTO:-0500
RDATE:20260308T020000
END:DAYLIGHT
END:VTIMEZONE
BEGIN:VEVENT
UID:20234912-8eaf-4ac6-8ac1-c063fca39290
DTSTAMP:20260422T063447Z
DESCRIPTION:ARTS & CRAFTS\nEmpower\nBracelets\n@3:00 PM\n*Resident only eve
 nt*
DTSTART;TZID=America/Chicago:20250410T150000
DTEND;TZID=America/Chicago:20250410T160000
LOCATION:6725 Brittmoore Road\, Houston\, TX 77041 US
SUMMARY:Brittmoore: Arts & Crafts
END:VEVENT
END:VCALENDAR
