BEGIN:VCALENDAR
VERSION:2.0
PRODID:-//empowercdc.org//NONSGML kigkonsult.se iCalcreator 2.30.10//
CALSCALE:GREGORIAN
METHOD:PUBLISH
UID:734ea8e5-31b2-4c4b-99d9-e8b50a618dae
X-WR-CALDESC:FOOD PANTRY - Empower\nMonthly Food Pantry\n@1:00 PM\n\n*Resid
 ent only event*
X-WR-RELCALID:a7f65733a9e9c551b2de65e55233f0e3
X-WR-TIMEZONE:America/Chicago
BEGIN:VTIMEZONE
TZID:America/Chicago
BEGIN:STANDARD
TZNAME:CST
DTSTART:20241103T020000
TZOFFSETFROM:-0500
TZOFFSETTO:-0600
RDATE:20251102T020000
END:STANDARD
BEGIN:DAYLIGHT
TZNAME:CDT
DTSTART:20250309T020000
TZOFFSETFROM:-0600
TZOFFSETTO:-0500
RDATE:20260308T020000
END:DAYLIGHT
END:VTIMEZONE
BEGIN:VEVENT
UID:20672c78-5488-412f-ae85-070b5206442a
DTSTAMP:20260422T075633Z
DESCRIPTION:FOOD PANTRY - Empower\nMonthly Food Pantry\n@1:00 PM\n\n*Reside
 nt only event*
DTSTART;TZID=America/Chicago:20250325T130000
DTEND;TZID=America/Chicago:20250325T143000
LOCATION:6725 Brittmoore Road\, Houston\, TX 77041 US
SUMMARY:Brittmoore: Food Pantry
END:VEVENT
END:VCALENDAR
