BEGIN:VCALENDAR
VERSION:2.0
PRODID:-//empowercdc.org//NONSGML kigkonsult.se iCalcreator 2.30.10//
CALSCALE:GREGORIAN
METHOD:PUBLISH
UID:c37946c7-f16e-405f-837a-46c30faf3694
X-WR-CALDESC:Character Building - Empower\nEncouraging Words\n@3:00 PM\n*Re
 sident only event*
X-WR-RELCALID:537b7335378a9950b863a579e6b9f08e
X-WR-TIMEZONE:America/Chicago
BEGIN:VTIMEZONE
TZID:America/Chicago
BEGIN:STANDARD
TZNAME:CST
DTSTART:20241103T020000
TZOFFSETFROM:-0500
TZOFFSETTO:-0600
RDATE:20251102T020000
END:STANDARD
BEGIN:DAYLIGHT
TZNAME:CDT
DTSTART:20250309T020000
TZOFFSETFROM:-0600
TZOFFSETTO:-0500
RDATE:20260308T020000
END:DAYLIGHT
END:VTIMEZONE
BEGIN:VEVENT
UID:570648c0-3e86-4bfa-b43d-70e8c46a41a8
DTSTAMP:20260422T075923Z
DESCRIPTION:Character Building - Empower\nEncouraging Words\n@3:00 PM\n*Res
 ident only event*
DTSTART;TZID=America/Chicago:20250313T150000
DTEND;TZID=America/Chicago:20250313T160000
LOCATION:6725 Brittmoore Road\, Houston\, TX 77041 US
SUMMARY:Brittmoore: Character Building
END:VEVENT
END:VCALENDAR
