BEGIN:VCALENDAR
VERSION:2.0
PRODID:-//empowercdc.org//NONSGML kigkonsult.se iCalcreator 2.30.10//
CALSCALE:GREGORIAN
METHOD:PUBLISH
UID:9c8dbffb-7a86-4df9-9165-600c1a83e9c8
X-WR-CALDESC:ARTS & CRAFTS - Empower\nPainting w/ a twist\n@3:00 PM\n\n*Res
 ident only event*
X-WR-RELCALID:6d06e8b93e0136ebd1e515bbb329dc28
X-WR-TIMEZONE:America/Chicago
BEGIN:VTIMEZONE
TZID:America/Chicago
BEGIN:STANDARD
TZNAME:CST
DTSTART:20241103T020000
TZOFFSETFROM:-0500
TZOFFSETTO:-0600
RDATE:20251102T020000
END:STANDARD
BEGIN:DAYLIGHT
TZNAME:CDT
DTSTART:20250309T020000
TZOFFSETFROM:-0600
TZOFFSETTO:-0500
RDATE:20260308T020000
END:DAYLIGHT
END:VTIMEZONE
BEGIN:VEVENT
UID:e30f6287-c8bf-413f-b741-a2fac8a9deef
DTSTAMP:20260422T080435Z
DESCRIPTION:ARTS & CRAFTS - Empower\nPainting w/ a twist\n@3:00 PM\n\n*Resi
 dent only event*
DTSTART;TZID=America/Chicago:20250311T150000
DTEND;TZID=America/Chicago:20250311T160000
LOCATION:6725 Brittmoore Road\, Houston\, TX 77041 US
SUMMARY:Brittmoore: Arts & Crafts
END:VEVENT
END:VCALENDAR
