BEGIN:VCALENDAR
VERSION:2.0
PRODID:-//empowercdc.org//NONSGML kigkonsult.se iCalcreator 2.30.10//
CALSCALE:GREGORIAN
METHOD:PUBLISH
UID:3a2e1145-8b2d-4120-9b86-58d34652badc
X-WR-CALDESC:SOCIAL - Empower\nMental Health Social\n@ 3:00 PM\n\n*Resident
  only event*
X-WR-RELCALID:5f0c71a80469aee0873259f37f571831
X-WR-TIMEZONE:America/Chicago
BEGIN:VTIMEZONE
TZID:America/Chicago
BEGIN:STANDARD
TZNAME:CST
DTSTART:20241103T020000
TZOFFSETFROM:-0500
TZOFFSETTO:-0600
RDATE:20251102T020000
END:STANDARD
BEGIN:DAYLIGHT
TZNAME:CDT
DTSTART:20240310T020000
TZOFFSETFROM:-0600
TZOFFSETTO:-0500
RDATE:20250309T020000
RDATE:20260308T020000
END:DAYLIGHT
END:VTIMEZONE
BEGIN:VEVENT
UID:893ff9ce-1695-45d8-ae03-d07a966baf9d
DTSTAMP:20260422T075953Z
DESCRIPTION:SOCIAL - Empower\nMental Health Social\n@ 3:00 PM\n\n*Resident 
 only event*
DTSTART;TZID=America/Chicago:20250304T150000
DTEND;TZID=America/Chicago:20250304T160000
LOCATION:6725 Brittmoore Road\, Houston\, TX 77041 US
SUMMARY:Brittmoore: Mental Health Social
END:VEVENT
END:VCALENDAR
