BEGIN:VCALENDAR
VERSION:2.0
PRODID:-//empowercdc.org//NONSGML kigkonsult.se iCalcreator 2.30.10//
CALSCALE:GREGORIAN
METHOD:PUBLISH
UID:5f354cc1-ebaf-4ac1-9dad-dd611faa8837
X-WR-CALDESC:ARTS & CRAFTS- Empower\nPainting w/ a twist\n@3:00\n\n*Residen
 t only event*
X-WR-RELCALID:0a385b1b7b59bfaf4d01447be1a7f5df
X-WR-TIMEZONE:America/Chicago
BEGIN:VTIMEZONE
TZID:America/Chicago
BEGIN:STANDARD
TZNAME:CST
DTSTART:20241103T020000
TZOFFSETFROM:-0500
TZOFFSETTO:-0600
RDATE:20251102T020000
END:STANDARD
BEGIN:DAYLIGHT
TZNAME:CDT
DTSTART:20240310T020000
TZOFFSETFROM:-0600
TZOFFSETTO:-0500
RDATE:20250309T020000
RDATE:20260308T020000
END:DAYLIGHT
END:VTIMEZONE
BEGIN:VEVENT
UID:463780ec-9dcc-41b9-85fd-ab44dbbc35d8
DTSTAMP:20260422T111449Z
DESCRIPTION:ARTS & CRAFTS- Empower\nPainting w/ a twist\n@3:00\n\n*Resident
  only event*
DTSTART;TZID=America/Chicago:20250130T150000
DTEND;TZID=America/Chicago:20250130T160000
LOCATION:6725 Brittmoore Road\, Houston\, TX 77041 US
SUMMARY:Brittmoore: Arts & Crafts
END:VEVENT
END:VCALENDAR
