BEGIN:VCALENDAR
VERSION:2.0
PRODID:-//empowercdc.org//NONSGML kigkonsult.se iCalcreator 2.30.10//
CALSCALE:GREGORIAN
METHOD:PUBLISH
UID:cf2945fd-62ff-4f13-bcf6-42e0e5a6a211
X-WR-CALDESC:SOCIAL - Empower\nBirthday Social\n@ 4:00 PM\n\n*Resident only
  event*
X-WR-RELCALID:e16abf173d806d6abd942b5c0fc612ed
X-WR-TIMEZONE:America/Chicago
BEGIN:VTIMEZONE
TZID:America/Chicago
BEGIN:STANDARD
TZNAME:CST
DTSTART:20241103T020000
TZOFFSETFROM:-0500
TZOFFSETTO:-0600
RDATE:20251102T020000
END:STANDARD
BEGIN:DAYLIGHT
TZNAME:CDT
DTSTART:20240310T020000
TZOFFSETFROM:-0600
TZOFFSETTO:-0500
RDATE:20250309T020000
RDATE:20260308T020000
END:DAYLIGHT
END:VTIMEZONE
BEGIN:VEVENT
UID:7c127333-a8ee-45bd-8785-20d718bc9317
DTSTAMP:20260422T111100Z
DESCRIPTION:SOCIAL - Empower\nBirthday Social\n@ 4:00 PM\n\n*Resident only 
 event*
DTSTART;TZID=America/Chicago:20250128T160000
DTEND;TZID=America/Chicago:20250128T173000
LOCATION:6725 Brittmoore Road\, Houston\, TX 77041 US
SUMMARY:Brittmoore: Birthday Social
END:VEVENT
END:VCALENDAR
