BEGIN:VCALENDAR
VERSION:2.0
PRODID:-//empowercdc.org//NONSGML kigkonsult.se iCalcreator 2.30.10//
CALSCALE:GREGORIAN
METHOD:PUBLISH
UID:2157ab6f-29bc-434a-ba24-743a896fa982
X-WR-CALDESC:HEALTH & NUTRITION- Empower\nFruit Bash\n@ 3:00 PM\n\n*Residen
 t only event*
X-WR-RELCALID:0e95b88bcef65766db9c12203b5a5c67
X-WR-TIMEZONE:America/Chicago
BEGIN:VTIMEZONE
TZID:America/Chicago
BEGIN:STANDARD
TZNAME:CST
DTSTART:20241103T020000
TZOFFSETFROM:-0500
TZOFFSETTO:-0600
RDATE:20251102T020000
END:STANDARD
BEGIN:DAYLIGHT
TZNAME:CDT
DTSTART:20240310T020000
TZOFFSETFROM:-0600
TZOFFSETTO:-0500
RDATE:20250309T020000
RDATE:20260308T020000
END:DAYLIGHT
END:VTIMEZONE
BEGIN:VEVENT
UID:bac17546-17a4-4788-a7b9-067d7cd45095
DTSTAMP:20260422T110016Z
DESCRIPTION:HEALTH & NUTRITION- Empower\nFruit Bash\n@ 3:00 PM\n\n*Resident
  only event*
DTSTART;TZID=America/Chicago:20250114T150000
DTEND;TZID=America/Chicago:20250114T160000
LOCATION:6725 Brittmoore Road\, Houston\, TX 77041 US
SUMMARY:Brittmoore: Health & Nutrition
END:VEVENT
END:VCALENDAR
