BEGIN:VCALENDAR
VERSION:2.0
PRODID:-//empowercdc.org//NONSGML kigkonsult.se iCalcreator 2.30.10//
CALSCALE:GREGORIAN
METHOD:PUBLISH
UID:447c6901-22a7-4a84-8cac-ec58548d1a3f
X-WR-CALDESC:Financial Planning- Empower\nFinancial Goals\n@2:00 PM\n\n*Res
 ident only event*
X-WR-RELCALID:9a8fb93c27c778610330e04ded58d26a
X-WR-TIMEZONE:America/Chicago
BEGIN:VTIMEZONE
TZID:America/Chicago
BEGIN:STANDARD
TZNAME:CST
DTSTART:20241103T020000
TZOFFSETFROM:-0500
TZOFFSETTO:-0600
RDATE:20251102T020000
END:STANDARD
BEGIN:DAYLIGHT
TZNAME:CDT
DTSTART:20240310T020000
TZOFFSETFROM:-0600
TZOFFSETTO:-0500
RDATE:20250309T020000
RDATE:20260308T020000
END:DAYLIGHT
END:VTIMEZONE
BEGIN:VEVENT
UID:5fbb535a-5ff9-4030-83e9-fd0f5299df13
DTSTAMP:20260422T110016Z
DESCRIPTION:Financial Planning- Empower\nFinancial Goals\n@2:00 PM\n\n*Resi
 dent only event*
DTSTART;TZID=America/Chicago:20250109T140000
DTEND;TZID=America/Chicago:20250109T150000
LOCATION:6725 Brittmoore Road\, Houston\, TX 77041 US
SUMMARY:Brittmoore: Financial Planning
END:VEVENT
END:VCALENDAR
