BEGIN:VCALENDAR
VERSION:2.0
PRODID:-//empowercdc.org//NONSGML kigkonsult.se iCalcreator 2.30.10//
CALSCALE:GREGORIAN
METHOD:PUBLISH
UID:54bff3d8-99f7-49f7-a6fb-cd11eefd4ed7
X-WR-CALDESC:CHARACTER BUILDING- Empower\nDraw and Tell\n@ 3:00 PM\n\n*Resi
 dent only event*
X-WR-RELCALID:f8302795acb14ac7db1a260725589be8
X-WR-TIMEZONE:America/Chicago
BEGIN:VTIMEZONE
TZID:America/Chicago
BEGIN:STANDARD
TZNAME:CST
DTSTART:20241103T020000
TZOFFSETFROM:-0500
TZOFFSETTO:-0600
RDATE:20251102T020000
END:STANDARD
BEGIN:DAYLIGHT
TZNAME:CDT
DTSTART:20240310T020000
TZOFFSETFROM:-0600
TZOFFSETTO:-0500
RDATE:20250309T020000
RDATE:20260308T020000
END:DAYLIGHT
END:VTIMEZONE
BEGIN:VEVENT
UID:dc02a0a3-1caf-40c8-82df-a8b104709fec
DTSTAMP:20260422T110017Z
DESCRIPTION:CHARACTER BUILDING- Empower\nDraw and Tell\n@ 3:00 PM\n\n*Resid
 ent only event*
DTSTART;TZID=America/Chicago:20250107T150000
DTEND;TZID=America/Chicago:20250107T160000
LOCATION:6725 Brittmoore Road\, Houston\, TX 77041 US
SUMMARY:Brittmoore: Character Building
END:VEVENT
END:VCALENDAR
