BEGIN:VCALENDAR
VERSION:2.0
PRODID:-//empowercdc.org//NONSGML kigkonsult.se iCalcreator 2.30.10//
CALSCALE:GREGORIAN
METHOD:PUBLISH
UID:936c29cb-873f-40fa-acc7-6d2993116de7
X-WR-CALDESC:CHARACTER BUILDING- Empower\nDraw and Tell\n@ 3:00 PM\n\nHEALT
 H & NUTRITION-Empower\nFruit Bash\n@ 4:00 PM\n\n*Resident only event*
X-WR-RELCALID:4c2fd2dc991ba0daf6151a80b0e5ad9c
X-WR-TIMEZONE:America/Chicago
BEGIN:VTIMEZONE
TZID:America/Chicago
BEGIN:STANDARD
TZNAME:CST
DTSTART:20241103T020000
TZOFFSETFROM:-0500
TZOFFSETTO:-0600
RDATE:20251102T020000
END:STANDARD
BEGIN:DAYLIGHT
TZNAME:CDT
DTSTART:20240310T020000
TZOFFSETFROM:-0600
TZOFFSETTO:-0500
RDATE:20250309T020000
RDATE:20260308T020000
END:DAYLIGHT
END:VTIMEZONE
BEGIN:VEVENT
UID:1ff1aa98-535c-49bd-949a-5d5aec7349bb
DTSTAMP:20260422T123654Z
DESCRIPTION:CHARACTER BUILDING- Empower\nDraw and Tell\n@ 3:00 PM\n\nHEALTH
  & NUTRITION-Empower\nFruit Bash\n@ 4:00 PM\n\n*Resident only event*
DTSTART;TZID=America/Chicago:20241211T150000
DTEND;TZID=America/Chicago:20241211T170000
LOCATION:6725 Brittmoore Road\, Houston\, TX 77041 US
SUMMARY:Brittmoore: Character Building\, Health & Nutrition
END:VEVENT
END:VCALENDAR
