BEGIN:VCALENDAR
VERSION:2.0
PRODID:-//empowercdc.org//NONSGML kigkonsult.se iCalcreator 2.30.10//
CALSCALE:GREGORIAN
METHOD:PUBLISH
UID:5fe8d5d2-cd4a-47ab-a1a7-b85c3dd5d314
X-WR-CALDESC:ARTS & CRAFTS - Empower\nTurkey Challenge\n@ 3:00 PM\n\n*Resid
 ent only event*
X-WR-RELCALID:44f4824af9baa3d9fb81779b41e45de6
X-WR-TIMEZONE:America/Chicago
BEGIN:VTIMEZONE
TZID:America/Chicago
BEGIN:STANDARD
TZNAME:CST
DTSTART:20241103T020000
TZOFFSETFROM:-0500
TZOFFSETTO:-0600
RDATE:20251102T020000
END:STANDARD
BEGIN:DAYLIGHT
TZNAME:CDT
DTSTART:20240310T020000
TZOFFSETFROM:-0600
TZOFFSETTO:-0500
RDATE:20250309T020000
RDATE:20260308T020000
END:DAYLIGHT
END:VTIMEZONE
BEGIN:VEVENT
UID:34da2b80-e0f0-438c-b832-adff9f080dcb
DTSTAMP:20260422T141203Z
DESCRIPTION:ARTS & CRAFTS - Empower\nTurkey Challenge\n@ 3:00 PM\n\n*Reside
 nt only event*
DTSTART;TZID=America/Chicago:20241121T150000
DTEND;TZID=America/Chicago:20241121T160000
LOCATION:6725 Brittmoore Road\, Houston\, TX 77041 US
SUMMARY:Brittmoore: Turkey Challenge
END:VEVENT
END:VCALENDAR
