BEGIN:VCALENDAR
VERSION:2.0
PRODID:-//empowercdc.org//NONSGML kigkonsult.se iCalcreator 2.30.10//
CALSCALE:GREGORIAN
METHOD:PUBLISH
UID:bed41168-e79c-481f-8340-d3bea344083b
X-WR-CALDESC:ARTS & CRAFTS-Empower\nVelvet Poster Art\n\n@ 3:00 PM\n\n*Resi
 dent only event*
X-WR-RELCALID:46f750b9c5925788f10c3b544e6a25a0
X-WR-TIMEZONE:America/Chicago
BEGIN:VTIMEZONE
TZID:America/Chicago
BEGIN:STANDARD
TZNAME:CST
DTSTART:20241103T020000
TZOFFSETFROM:-0500
TZOFFSETTO:-0600
RDATE:20251102T020000
END:STANDARD
BEGIN:DAYLIGHT
TZNAME:CDT
DTSTART:20240310T020000
TZOFFSETFROM:-0600
TZOFFSETTO:-0500
RDATE:20250309T020000
RDATE:20260308T020000
END:DAYLIGHT
END:VTIMEZONE
BEGIN:VEVENT
UID:ea678bf5-7fd8-4a8e-b399-bf2415a28d4c
DTSTAMP:20260422T135356Z
DESCRIPTION:ARTS & CRAFTS-Empower\nVelvet Poster Art\n\n@ 3:00 PM\n\n*Resid
 ent only event*
DTSTART;TZID=America/Chicago:20241107T150000
DTEND;TZID=America/Chicago:20241107T160000
LOCATION:6725 Brittmoore Road\, Houston\, TX 77041 US
SUMMARY:Brittmoore: Arts & Crafts
END:VEVENT
END:VCALENDAR
