BEGIN:VCALENDAR
VERSION:2.0
PRODID:-//empowercdc.org//NONSGML kigkonsult.se iCalcreator 2.30.10//
CALSCALE:GREGORIAN
METHOD:PUBLISH
UID:1eb9c4b9-ba68-4bc1-98fb-54df39e6cfed
X-WR-CALDESC:SOCIAL- Empower\nThanksgiving Social\n@ 3:30 PM\n\n*Resident o
 nly event*
X-WR-RELCALID:a621848b4d3f0161cb24a50166a496c5
X-WR-TIMEZONE:America/Chicago
BEGIN:VTIMEZONE
TZID:America/Chicago
BEGIN:STANDARD
TZNAME:CST
DTSTART:20241103T020000
TZOFFSETFROM:-0500
TZOFFSETTO:-0600
RDATE:20251102T020000
END:STANDARD
BEGIN:DAYLIGHT
TZNAME:CDT
DTSTART:20240310T020000
TZOFFSETFROM:-0600
TZOFFSETTO:-0500
RDATE:20250309T020000
RDATE:20260308T020000
END:DAYLIGHT
END:VTIMEZONE
BEGIN:VEVENT
UID:955dc315-7973-4ce3-a68d-79d70e26bd39
DTSTAMP:20260422T135810Z
DESCRIPTION:SOCIAL- Empower\nThanksgiving Social\n@ 3:30 PM\n\n*Resident on
 ly event*
DTSTART;TZID=America/Chicago:20241105T153000
DTEND;TZID=America/Chicago:20241105T170000
LOCATION:6725 Brittmoore Road\, Houston\, TX 77041 US
SUMMARY:Brittmoore: Thanksgiving Social
END:VEVENT
END:VCALENDAR
