BEGIN:VCALENDAR
VERSION:2.0
PRODID:-//empowercdc.org//NONSGML kigkonsult.se iCalcreator 2.30.10//
CALSCALE:GREGORIAN
METHOD:PUBLISH
UID:0fae16f4-526d-435e-a10a-80eefaf0f883
X-WR-CALDESC:HEALTH & NUTRITION-Empower\nFruit Bash\n\n@ 3:00 PM\n\n*Reside
 nt only event*
X-WR-RELCALID:ca92de63a4fc56a0986de851d2b82f61
X-WR-TIMEZONE:America/Chicago
BEGIN:VTIMEZONE
TZID:America/Chicago
BEGIN:STANDARD
TZNAME:CST
DTSTART:20231105T020000
TZOFFSETFROM:-0500
TZOFFSETTO:-0600
RDATE:20241103T020000
RDATE:20251102T020000
END:STANDARD
BEGIN:DAYLIGHT
TZNAME:CDT
DTSTART:20240310T020000
TZOFFSETFROM:-0600
TZOFFSETTO:-0500
RDATE:20250309T020000
RDATE:20260308T020000
END:DAYLIGHT
END:VTIMEZONE
BEGIN:VEVENT
UID:2de6b972-398f-412e-8db6-b8bb86a3de2a
DTSTAMP:20260422T154955Z
DESCRIPTION:HEALTH & NUTRITION-Empower\nFruit Bash\n\n@ 3:00 PM\n\n*Residen
 t only event*
DTSTART;TZID=America/Chicago:20241015T150000
DTEND;TZID=America/Chicago:20241015T160000
LOCATION:6725 Brittmoore Road\, Houston\, TX 77041 US
SUMMARY:Brittmoore: Health & Nutrition
END:VEVENT
END:VCALENDAR
