BEGIN:VCALENDAR
VERSION:2.0
PRODID:-//empowercdc.org//NONSGML kigkonsult.se iCalcreator 2.30.10//
CALSCALE:GREGORIAN
METHOD:PUBLISH
UID:b5f90225-3449-44ef-b7c8-5f584ca38a9e
X-WR-CALDESC:CHARACTER BUILDING-Empower\nDraw & Tell\n\n@ 3:00 PM\n\n*Resid
 ent only event*
X-WR-RELCALID:cf98c6f13058b9994a8d93be80ea8f49
X-WR-TIMEZONE:America/Chicago
BEGIN:VTIMEZONE
TZID:America/Chicago
BEGIN:STANDARD
TZNAME:CST
DTSTART:20231105T020000
TZOFFSETFROM:-0500
TZOFFSETTO:-0600
RDATE:20241103T020000
RDATE:20251102T020000
END:STANDARD
BEGIN:DAYLIGHT
TZNAME:CDT
DTSTART:20240310T020000
TZOFFSETFROM:-0600
TZOFFSETTO:-0500
RDATE:20250309T020000
RDATE:20260308T020000
END:DAYLIGHT
END:VTIMEZONE
BEGIN:VEVENT
UID:30d9cb5b-2a8b-4f02-8612-506a4ad409f3
DTSTAMP:20260422T161259Z
DESCRIPTION:CHARACTER BUILDING-Empower\nDraw & Tell\n\n@ 3:00 PM\n\n*Reside
 nt only event*
DTSTART;TZID=America/Chicago:20241008T150000
DTEND;TZID=America/Chicago:20241008T160000
LOCATION:6725 Brittmoore Road\, Houston\, TX 77041 US
SUMMARY:Brittmoore: Character Building
END:VEVENT
END:VCALENDAR
