BEGIN:VCALENDAR
VERSION:2.0
PRODID:-//empowercdc.org//NONSGML kigkonsult.se iCalcreator 2.30.10//
CALSCALE:GREGORIAN
METHOD:PUBLISH
UID:83b3277b-49b6-4dbd-a80e-5bc8f33e2867
X-WR-CALDESC:FOOD PANTRY-Empower\nMonthly Food Pantry\n\n@3:00 PM\n\n*Resid
 ent only event*
X-WR-RELCALID:ae718e420413c859fcd6f33409651d18
X-WR-TIMEZONE:America/Chicago
BEGIN:VTIMEZONE
TZID:America/Chicago
BEGIN:STANDARD
TZNAME:CST
DTSTART:20231105T020000
TZOFFSETFROM:-0500
TZOFFSETTO:-0600
RDATE:20241103T020000
RDATE:20251102T020000
END:STANDARD
BEGIN:DAYLIGHT
TZNAME:CDT
DTSTART:20240310T020000
TZOFFSETFROM:-0600
TZOFFSETTO:-0500
RDATE:20250309T020000
RDATE:20260308T020000
END:DAYLIGHT
END:VTIMEZONE
BEGIN:VEVENT
UID:63cd046c-5864-40d1-9a28-f225b71ac5b6
DTSTAMP:20260422T172616Z
DESCRIPTION:FOOD PANTRY-Empower\nMonthly Food Pantry\n\n@3:00 PM\n\n*Reside
 nt only event*
DTSTART;TZID=America/Chicago:20240924T150000
DTEND;TZID=America/Chicago:20240924T160000
LOCATION:6725 Brittmoore Road\, Houston\, TX 77041 US
SUMMARY:Brittmoore: Food Pantry
END:VEVENT
END:VCALENDAR
