BEGIN:VCALENDAR
VERSION:2.0
PRODID:-//empowercdc.org//NONSGML kigkonsult.se iCalcreator 2.30.10//
CALSCALE:GREGORIAN
METHOD:PUBLISH
UID:1a829a58-9626-4986-962f-b75805ad8967
X-WR-CALDESC:ARTS & CRAFTS-Empower\nVelvet Poster Art\n@ 3:00 PM\n\n*Reside
 nt only event*
X-WR-RELCALID:8571ce6ec8d031e276a22f51dd4610af
X-WR-TIMEZONE:America/Chicago
BEGIN:VTIMEZONE
TZID:America/Chicago
BEGIN:STANDARD
TZNAME:CST
DTSTART:20231105T020000
TZOFFSETFROM:-0500
TZOFFSETTO:-0600
RDATE:20241103T020000
RDATE:20251102T020000
END:STANDARD
BEGIN:DAYLIGHT
TZNAME:CDT
DTSTART:20240310T020000
TZOFFSETFROM:-0600
TZOFFSETTO:-0500
RDATE:20250309T020000
RDATE:20260308T020000
END:DAYLIGHT
END:VTIMEZONE
BEGIN:VEVENT
UID:b0ad6655-5a1a-43ab-9db9-75c673691fe9
DTSTAMP:20260422T172749Z
DESCRIPTION:ARTS & CRAFTS-Empower\nVelvet Poster Art\n@ 3:00 PM\n\n*Residen
 t only event*
DTSTART;TZID=America/Chicago:20240919T150000
DTEND;TZID=America/Chicago:20240919T160000
LOCATION:6725 Brittmoore Road\, Houston\, TX 77041 US
SUMMARY:Brittmoore: Arts & Crafts
END:VEVENT
END:VCALENDAR
