BEGIN:VCALENDAR
VERSION:2.0
PRODID:-//empowercdc.org//NONSGML kigkonsult.se iCalcreator 2.30.10//
CALSCALE:GREGORIAN
METHOD:PUBLISH
UID:fc7e4320-a93f-424c-a952-9d9fdf4054c6
X-WR-CALDESC:SOCIAL - Empower\nMeet & Greet\n@ 3:00 PM\n\n*Resident only ev
 ent*
X-WR-RELCALID:0efdc6981928e7bbe7bba898c2faeb7d
X-WR-TIMEZONE:America/Chicago
BEGIN:VTIMEZONE
TZID:America/Chicago
BEGIN:STANDARD
TZNAME:CST
DTSTART:20231105T020000
TZOFFSETFROM:-0500
TZOFFSETTO:-0600
RDATE:20241103T020000
RDATE:20251102T020000
END:STANDARD
BEGIN:DAYLIGHT
TZNAME:CDT
DTSTART:20240310T020000
TZOFFSETFROM:-0600
TZOFFSETTO:-0500
RDATE:20250309T020000
END:DAYLIGHT
END:VTIMEZONE
BEGIN:VEVENT
UID:567f6ff7-0fd0-4a66-96af-4ce05c21a88b
DTSTAMP:20260422T172737Z
DESCRIPTION:SOCIAL - Empower\nMeet & Greet\n@ 3:00 PM\n\n*Resident only eve
 nt*
DTSTART;TZID=America/Chicago:20240905T150000
DTEND;TZID=America/Chicago:20240905T160000
LOCATION:6725 Brittmoore Road\, Houston\, TX 77041 US
SUMMARY:Brittmoore: Meet & Greet (Social)
END:VEVENT
END:VCALENDAR
