BEGIN:VCALENDAR
VERSION:2.0
PRODID:-//empowercdc.org//NONSGML kigkonsult.se iCalcreator 2.30.10//
CALSCALE:GREGORIAN
METHOD:PUBLISH
UID:f7224dda-20fd-4fcd-8e8f-acba8d2ff9eb
X-WR-CALDESC:FOOD PANTRY- Empower\nMonthly Food Pantry\n@2:00PM\n\n*Residen
 t only event*
X-WR-RELCALID:2cbc68d4de9111c4dbf6d9849d931803
X-WR-TIMEZONE:America/Chicago
BEGIN:VTIMEZONE
TZID:America/Chicago
BEGIN:STANDARD
TZNAME:CST
DTSTART:20231105T020000
TZOFFSETFROM:-0500
TZOFFSETTO:-0600
RDATE:20241103T020000
RDATE:20251102T020000
END:STANDARD
BEGIN:DAYLIGHT
TZNAME:CDT
DTSTART:20240310T020000
TZOFFSETFROM:-0600
TZOFFSETTO:-0500
RDATE:20250309T020000
END:DAYLIGHT
END:VTIMEZONE
BEGIN:VEVENT
UID:3da1df05-a9ca-4e0e-a947-95af197632be
DTSTAMP:20260422T185935Z
DESCRIPTION:FOOD PANTRY- Empower\nMonthly Food Pantry\n@2:00PM\n\n*Resident
  only event*
DTSTART;TZID=America/Chicago:20240827T140000
DTEND;TZID=America/Chicago:20240827T150000
LOCATION:6725 Brittmoore Road\, Houston\, TX 77041 US
SUMMARY:Brittmoore: Food Pantry
END:VEVENT
END:VCALENDAR
