BEGIN:VCALENDAR
VERSION:2.0
PRODID:-//empowercdc.org//NONSGML kigkonsult.se iCalcreator 2.30.10//
CALSCALE:GREGORIAN
METHOD:PUBLISH
UID:c68dffbd-1bf7-40b8-9e4c-9d5c2df853b2
X-WR-CALDESC:SOCIAL- Unlimited Visions\nBack-to-School Birthday\nFireside C
 hat\n@ 3:00PM\n\n*Resident only event*
X-WR-RELCALID:1872dd0a4da3b96d71cb20c24f127781
X-WR-TIMEZONE:America/Chicago
BEGIN:VTIMEZONE
TZID:America/Chicago
BEGIN:STANDARD
TZNAME:CST
DTSTART:20231105T020000
TZOFFSETFROM:-0500
TZOFFSETTO:-0600
RDATE:20241103T020000
RDATE:20251102T020000
END:STANDARD
BEGIN:DAYLIGHT
TZNAME:CDT
DTSTART:20240310T020000
TZOFFSETFROM:-0600
TZOFFSETTO:-0500
RDATE:20250309T020000
END:DAYLIGHT
END:VTIMEZONE
BEGIN:VEVENT
UID:af84dd80-ce21-4c50-87b4-d6262dc7a383
DTSTAMP:20260422T185644Z
DESCRIPTION:SOCIAL- Unlimited Visions\nBack-to-School Birthday\nFireside Ch
 at\n@ 3:00PM\n\n*Resident only event*
DTSTART;TZID=America/Chicago:20240820T150000
DTEND;TZID=America/Chicago:20240820T170000
LOCATION:6725 Brittmoore Road\, Houston\, TX 77041 US
SUMMARY:Brittmoore: Unlimited Visions
END:VEVENT
END:VCALENDAR
