BEGIN:VCALENDAR
VERSION:2.0
PRODID:-//empowercdc.org//NONSGML kigkonsult.se iCalcreator 2.30.10//
CALSCALE:GREGORIAN
METHOD:PUBLISH
UID:dd596dfc-6812-4c8e-b5f3-0ff75bb31155
X-WR-CALDESC:ARTS & CRAFTS-Empower\n\nVelvet Poster Art\n@3:00PM\n\n*Reside
 nt only event*
X-WR-RELCALID:89c87f70881fb18eab3939585bf2723d
X-WR-TIMEZONE:America/Chicago
BEGIN:VTIMEZONE
TZID:America/Chicago
BEGIN:STANDARD
TZNAME:CST
DTSTART:20231105T020000
TZOFFSETFROM:-0500
TZOFFSETTO:-0600
RDATE:20241103T020000
RDATE:20251102T020000
END:STANDARD
BEGIN:DAYLIGHT
TZNAME:CDT
DTSTART:20240310T020000
TZOFFSETFROM:-0600
TZOFFSETTO:-0500
RDATE:20250309T020000
END:DAYLIGHT
END:VTIMEZONE
BEGIN:VEVENT
UID:1cecda30-ec99-414f-98a0-b8a833473045
DTSTAMP:20260422T185813Z
DESCRIPTION:ARTS & CRAFTS-Empower\n\nVelvet Poster Art\n@3:00PM\n\n*Residen
 t only event*
DTSTART;TZID=America/Chicago:20240815T150000
DTEND;TZID=America/Chicago:20240815T160000
LOCATION:6725 Brittmoore Road\, Houston\, TX 77041 US
SUMMARY:Brittmoore: Arts & Crafts
END:VEVENT
END:VCALENDAR
