BEGIN:VCALENDAR
VERSION:2.0
PRODID:-//empowercdc.org//NONSGML kigkonsult.se iCalcreator 2.30.10//
CALSCALE:GREGORIAN
METHOD:PUBLISH
UID:dec6c928-ced9-45bf-9cda-9ead5ca444c5
X-WR-CALDESC:Food Pantry event for the residents of property.\n\n*Resident 
 only event*
X-WR-RELCALID:cf4a4f8639a737f4c16cd160cc90d367
X-WR-TIMEZONE:America/Chicago
BEGIN:VTIMEZONE
TZID:America/Chicago
BEGIN:STANDARD
TZNAME:CST
DTSTART:20231105T020000
TZOFFSETFROM:-0500
TZOFFSETTO:-0600
RDATE:20241103T020000
RDATE:20251102T020000
END:STANDARD
BEGIN:DAYLIGHT
TZNAME:CDT
DTSTART:20240310T020000
TZOFFSETFROM:-0600
TZOFFSETTO:-0500
RDATE:20250309T020000
END:DAYLIGHT
END:VTIMEZONE
BEGIN:VEVENT
UID:7de30fd4-36f5-40ba-90ea-1701274f357c
DTSTAMP:20260422T202936Z
DESCRIPTION:Food Pantry event for the residents of property.\n\n*Resident o
 nly event*
DTSTART;TZID=America/Chicago:20240723T133000
DTEND;TZID=America/Chicago:20240723T143000
LOCATION:6725 Brittmoore Road\, Houston\, TX 77041 US
SUMMARY:Brittmoore: Food Pantry
END:VEVENT
END:VCALENDAR
