BEGIN:VCALENDAR
VERSION:2.0
PRODID:-//empowercdc.org//NONSGML kigkonsult.se iCalcreator 2.30.10//
CALSCALE:GREGORIAN
METHOD:PUBLISH
UID:e02ad2ff-41e9-46a6-8e5c-d66fffccc145
X-WR-CALDESC:Residents will be working on various art activities.\n\n*Resid
 ent only event*
X-WR-RELCALID:14f91092d1858f13be919260eca2a129
X-WR-TIMEZONE:America/Chicago
BEGIN:VTIMEZONE
TZID:America/Chicago
BEGIN:STANDARD
TZNAME:CST
DTSTART:20231105T020000
TZOFFSETFROM:-0500
TZOFFSETTO:-0600
RDATE:20241103T020000
RDATE:20251102T020000
END:STANDARD
BEGIN:DAYLIGHT
TZNAME:CDT
DTSTART:20240310T020000
TZOFFSETFROM:-0600
TZOFFSETTO:-0500
RDATE:20250309T020000
END:DAYLIGHT
END:VTIMEZONE
BEGIN:VEVENT
UID:cfe6eed7-c6e0-48d5-89fc-018a6990ca64
DTSTAMP:20260422T203825Z
DESCRIPTION:Residents will be working on various art activities.\n\n*Reside
 nt only event*
DTSTART;TZID=America/Chicago:20240716T140000
DTEND;TZID=America/Chicago:20240716T150000
LOCATION:6725 Brittmoore Road\, Houston\, TX 77041 US
SUMMARY:Brittmoore: Arts & Crafts
END:VEVENT
END:VCALENDAR
