BEGIN:VCALENDAR
VERSION:2.0
PRODID:-//empowercdc.org//NONSGML kigkonsult.se iCalcreator 2.30.10//
CALSCALE:GREGORIAN
METHOD:PUBLISH
UID:a1f9e8b8-79db-44a1-bb46-ee9af1e5aeb6
X-WR-CALDESC:Birthday Social event for the residents of property.\n\n*Resid
 ent only event*
X-WR-RELCALID:8d71c181e35573b95e148ad562ca9e64
X-WR-TIMEZONE:America/Chicago
BEGIN:VTIMEZONE
TZID:America/Chicago
BEGIN:STANDARD
TZNAME:CST
DTSTART:20231105T020000
TZOFFSETFROM:-0500
TZOFFSETTO:-0600
RDATE:20241103T020000
RDATE:20251102T020000
END:STANDARD
BEGIN:DAYLIGHT
TZNAME:CDT
DTSTART:20240310T020000
TZOFFSETFROM:-0600
TZOFFSETTO:-0500
RDATE:20250309T020000
END:DAYLIGHT
END:VTIMEZONE
BEGIN:VEVENT
UID:b5552f7b-5b81-4994-bfb8-c002d66ba114
DTSTAMP:20260421T081823Z
DESCRIPTION:Birthday Social event for the residents of property.\n\n*Reside
 nt only event*
DTSTART;TZID=America/Chicago:20240711T140000
DTEND;TZID=America/Chicago:20240711T160000
LOCATION:6725 Brittmoore Road\, Houston\, TX 77041 US
SUMMARY:Brittmoore: Birthday Social
END:VEVENT
END:VCALENDAR
